BEGIN:VCALENDAR
VERSION:2.0
PRODID:-//PROCON Professionals - ECPv4.9.13//NONSGML v1.0//EN
CALSCALE:GREGORIAN
METHOD:PUBLISH
X-WR-CALNAME:PROCON Professionals
X-ORIGINAL-URL:https://myprocon.pl
X-WR-CALDESC:Events for PROCON Professionals
BEGIN:VTIMEZONE
TZID:Europe/Warsaw
BEGIN:DAYLIGHT
TZOFFSETFROM:+0100
TZOFFSETTO:+0200
TZNAME:CEST
DTSTART:20190331T010000
END:DAYLIGHT
BEGIN:STANDARD
TZOFFSETFROM:+0200
TZOFFSETTO:+0100
TZNAME:CET
DTSTART:20191027T010000
END:STANDARD
END:VTIMEZONE
BEGIN:VEVENT
DTSTART;TZID=Europe/Warsaw:20190911T090000
DTEND;TZID=Europe/Warsaw:20190911T170000
DTSTAMP:20260421T100236
CREATED:20180514T172227Z
LAST-MODIFIED:20191127T094356Z
UID:5469-1568192400-1568221200@myprocon.pl
SUMMARY:Umowy Agile: najlepsze praktyki tworzenia i negocjowania umów IT
DESCRIPTION:\n\nTrener:\nŁukasz Węgrzyn / partner / SSW Pragmatic Solutions\nPiotr Gałka / radca prawny / SSW Pragmatic Solutions\nPiotr Kaniewski / aplikant adwokacki / SSW Pragmatic Solutions\n\nProgram warsztatu:\n• Wprowadzenie do umów IT.\n• Agile vs Waterfall – czyli o nowym podejściu do umów IT.\n• O czym pomyśleć jeszcze przed negocjacjami?\n• Przedmiot umowy oraz jego realizacja.\n• Procedura kontroli zmian umowy.\n• Jak prawidłowo opisać przedmiotu umowy?\n• Personel dostawcy w umowach IT.\n• Współdziałanie stron w projektach IT\, jego znaczenie prawne oraz sposób ujęcia w umowie.\n• Kary umowne w projektach IT.\n• Odpowiedzialność w umowach IT .\n• Modele rozliczeń w umowach IT.\n• Procedury odbiorowe w umowach IT.\n• Transfer IP.\n• Dokumentacja projektu IT.\n• Kod źródłowy.\n• Exit Plan – czyli jak zakończyć projekt IT? \n\n\n\n\n\nUczestnicy:\nwarsztat skierowany jest do działów zakupowych\, osób odpowiedzialnych za negocjacje oraz zarządzanie wdrożeniami systemów informatycznych oraz umowami IT\, do członków działów IT oraz do prawników biorących udział w opracowywaniu i negocjowaniu umów IT. \n\n\nKorzyści z udziału dla Uczestnika:\nZapoznanie się z Agile\, czyli nowym podejściem do umów IT;\nZrozumienie na co zwracać uwagę tworząc i negocjując umowy IT;\nUmiejętność stworzenia umowy IT\, która usprawni współpracę z dostawcą wdrażającym system informatyczny w metodyce Agile. \n\n\nMateriały i ćwiczenia:\nwykłady teoretyczne poświęcone poszczególnym blokom tematycznym\, analiza studiów przypadku. \n\n\nCertyfikaty\nUczestnicy otrzymają CERTYFIKATY potwierdzające udział w warsztatach \nInformacje organizacyjne\nGrupa 10-15 osób; \nCzas trwania:\nok. 8 godzin z uwzględnieniem przerw kawowych i lunchu \n  \nSpecjalna oferta\nAtrakcyjne ceny TYLKO dla Członków PROCON® Professionals\nPoznaj szczegóły\n\n  \n  \n\n
URL:https://myprocon.pl/event/umowy-agile-najlepsze-praktyki-tworzenia-i-negocjowania-umow-it/
LOCATION:Kraków\, Kraków\, Kraków\, Polska
CATEGORIES:PROCON Workshops
ATTACH;FMTTYPE=image/jpeg:https://myprocon.pl/wp-content/uploads/2018/05/Procon-workshops-1024-pprof2.jpg
ORGANIZER;CN="PROCON%C2%AEProfessionals":MAILTO:agata.magdziarek@optibuy.com
END:VEVENT
END:VCALENDAR