BEGIN:VCALENDAR
VERSION:2.0
PRODID:-//PROCON Professionals - ECPv4.9.13//NONSGML v1.0//EN
CALSCALE:GREGORIAN
METHOD:PUBLISH
X-WR-CALNAME:PROCON Professionals
X-ORIGINAL-URL:https://myprocon.pl
X-WR-CALDESC:Events for PROCON Professionals
BEGIN:VTIMEZONE
TZID:Europe/Warsaw
BEGIN:DAYLIGHT
TZOFFSETFROM:+0100
TZOFFSETTO:+0200
TZNAME:CEST
DTSTART:20210328T010000
END:DAYLIGHT
BEGIN:STANDARD
TZOFFSETFROM:+0200
TZOFFSETTO:+0100
TZNAME:CET
DTSTART:20211031T010000
END:STANDARD
END:VTIMEZONE
BEGIN:VEVENT
DTSTART;TZID=Europe/Warsaw:20210607T090000
DTEND;TZID=Europe/Warsaw:20210607T170000
DTSTAMP:20260421T083746
CREATED:20210331T104125Z
LAST-MODIFIED:20210505T133541Z
UID:9147-1623056400-1623085200@myprocon.pl
SUMMARY:Udzielanie informacji zwrotnej jako narzędzie rozwoju dostawców i budowania relacji
DESCRIPTION:\n\nDiana Najtkowska-Sapryk\, Trener i Coach działu zakupów\, ProcureMe\n\nTrener\, coach\, wykładowca specjalizujący się w szkoleniach dla działu zakupów\, z kompetencji miękkich i zakupowych. Właścicielka firmy oraz grup na Facebook\, Linkedin ProcureMe promującej ludzki wymiar biznesu\, dbałość o relacje z dostawcami i spojrzenie na rolę kupca jako ambasadora najlepszych\, etycznych praktyk kupieckich o holistycznym podejściu do swojej roli. Były kupiec z ponad 13-letnim doświadczeniem pracy w międzynarodowych korporacjach tj. Samsung Electronics\, Mars czy Arjohuntleigh w działach zakupów. \n  \n\n\n\n\n\n\nCel warsztatów:\nWarsztat pomagający wypracować umiejętność udzielania informacji zwrotnej na temat współpracy z dostawcami. Jego efektem jest wypracowanie kryteriów i standardu oczekiwań względem dostawców do zaimplementowania w ramach działu zakupów\, który będzie podstawą do udzielania im feedbacku. Udzielanie informacji zwrotnej dostawcom wbrew pozorom nie jest tym samym\, co udzielanie feedbacku w innych sytuacjach. \n  \n\nProfil uczestnika:\n\n\nWarsztat skierowany jest do wszystkich pracowników działu zakupów (specjalistów\, kupców\, kierowników czy managerów działu zakupów)\, którzy chcą udzielać informacji zwrotnej dostawcom\, lecz nie wiedzą w jaki sposób podejść do tematu; dla osób\, które rozumieją bądź chcą zrozumieć rolę informacji zwrotnej przy budowaniu długoterminowych relacji\, którym zależy na zbudowaniu kultury feedbacku jako standardu pracy w firmie. \n  \nStopień zaawansowania\n\n\nśredniozaawansowani / zaawansowani \n\n\n\n\nMetody szkoleniowe:\n\n\nwykłady teoretyczne poświęcone feedbackowi\, dyskusje moderowane\, ćwiczenia praktyczne w parach. \nCzas trwania:\n8 godzin (w tym przerwy kawowe\, lunch time) \nCertyfikaty:\nUczestnicy otrzymają CERTYFIKATY potwierdzające udział w warsztatach \nKorzyści z udziału – „Co zyskuje uczestnik?”:\nDzięki udziałowi w warsztacie uczestnicy zrozumieją istotę feedbacku w budowaniu relacji biznesowych\, przećwiczą w praktyce udzielanie informacji zwrotnej\, nakreślanie oczekiwań względem współpracy z dostawcami. \n\n  \nProgram warsztatu:\n\n\n\nWpływ percepcji na proces komunikacji i odbiór rzeczywistości.\nKryteria współpracy z dostawcą.\nStandard oczekiwań w firmie.\nTechniki udzielania feedbacku\, wspierające rozwój dostawców i owocną współpracę.\nDekalog skutecznej komunikacji i udzielania informacji zwrotnej.\n\n\n\n\n\n\n\n\n  \n  \nKoszt uczestnictwa poza programem PROCON® Professionals – 550 PLN (netto/os.)\nW przypadku pytań\, prosimy o kontakt. \n\n\n\nAtrakcyjne ceny TYLKO dla Członków PROCON® Professionals\nPoznaj szczegóły\n\n  \n  \n\n\n
URL:https://myprocon.pl/event/udzielanie-informacji-zwrotnej-jako-narzedzie-rozwoju-dostawcow-i-budowania-relacji/
LOCATION:Szkolenie Online\, Online
CATEGORIES:Diana Najtkowska-Sapryk,PROCON Workshops
ATTACH;FMTTYPE=image/jpeg:https://myprocon.pl/wp-content/uploads/2018/04/warsztaty_workshops-online_logo.jpg
ORGANIZER;CN="PROCON%C2%AEProfessionals":MAILTO:agata.magdziarek@optibuy.com
END:VEVENT
END:VCALENDAR