BEGIN:VCALENDAR
VERSION:2.0
PRODID:-//PROCON Professionals - ECPv4.9.13//NONSGML v1.0//EN
CALSCALE:GREGORIAN
METHOD:PUBLISH
X-WR-CALNAME:PROCON Professionals
X-ORIGINAL-URL:https://myprocon.pl
X-WR-CALDESC:Events for PROCON Professionals
BEGIN:VTIMEZONE
TZID:Europe/Warsaw
BEGIN:DAYLIGHT
TZOFFSETFROM:+0100
TZOFFSETTO:+0200
TZNAME:CEST
DTSTART:20210328T010000
END:DAYLIGHT
BEGIN:STANDARD
TZOFFSETFROM:+0200
TZOFFSETTO:+0100
TZNAME:CET
DTSTART:20211031T010000
END:STANDARD
END:VTIMEZONE
BEGIN:VEVENT
DTSTART;TZID=Europe/Warsaw:20211214T080000
DTEND;TZID=Europe/Warsaw:20211214T160000
DTSTAMP:20260421T083713
CREATED:20210806T190227Z
LAST-MODIFIED:20210811T105608Z
UID:9419-1639468800-1639497600@myprocon.pl
SUMMARY:ONLINE: Kupiec twarzą najlepszych praktyk.Trening transparentności kupieckiej.
DESCRIPTION:[vc_row][vc_column][vc_row_inner][vc_column_inner width=”1/6″][vc_single_image image=”9137″ img_size=”full” style=”vc_box_outline”][/vc_column_inner][vc_column_inner width=”5/6″][vc_column_text] \nTrener:  Diana Najtkowska-Sapryk Trener i Coach działu zakupów\, ProcureMe\n[/vc_column_text][vc_empty_space height=”20px”][vc_column_text]Trener\, coach\, wykładowca specjalizujący się w szkoleniach dla działu zakupów\, z kompetencji miękkich i zakupowych. Właścicielka firmy oraz grup na Facebook\, Linkedin ProcureMe promującej ludzki wymiar biznesu\, dbałość o relacje z dostawcami i spojrzenie na rolę kupca jako ambasadora najlepszych\, etycznych praktyk kupieckich o holistycznym podejściu do swojej roli. Były kupiec z ponad 13letnim doświadczeniem pracy w międzynarodowych korporacjach tj. Samsung Electronics\, Mars czy Arjohuntleigh w działach zakupów.[/vc_column_text][/vc_column_inner][/vc_row_inner][vc_empty_space][/vc_column][/vc_row][vc_row][vc_column]Opis warsztatu w pigułceWraz ze wzrostem znaczenia funkcji zakupowej w firmach\, wzrastają również oczekiwania względem pracowników działu zakupów. Istotne stają się kompetencje kupców\, sposób postępowania zarówno w stosunku do klientów wewnętrznych\, jak i do dostawców. Jak temu sprostać? Z pomocą przychodzą najlepsze praktyki promowane przez wiodące\, bardzo dojrzałe biznesowo firmy o wysokiej dojrzałości funkcji zakupowej. \nProfil uczestnikawarsztat skierowany jest do pracowników działu zakupów (specjalistów\, kupców\, kierowników czy managerów działu zakupów)\, którym zależy na wzbogacaniu warsztatu kupieckiego poprzez budowanie samoświadomości w obrębie dojrzałości pełnionej funkcji zakupowej. \nStopień zaawansowaniaśredniozaawansowani/ zaawansowani \nMetody szkoleniowewykłady teoretyczne\, dyskusje moderowane\, ćwiczenia grupowe. \nCzas trwania8h – w tym przerwy kawowe\, lunch \nKorzyści z udziału dla uczestnikaDzięki udziałowi w warsztacie uczestnicy poznają poziomy dojrzałości funkcji zakupowej\, będą mieli okazję zapoznać się z sylwetką kupca jako doradcy i zaufanego partnera biznesowego oraz poznają najlepsze praktyki kupieckie. \n[vc_message icon_fontawesome=”fa fa-credit-card”]Koszt uczestnictwa poza programem PROCON® Professionals – 550 PLN (netto/os.) W przypadku pytań\, prosimy o kontakt.[/vc_message][vc_empty_space height=”10px”][vc_column_text] \nProgram warsztatów:\n\nStopnie dojrzałości funkcji zakupowej\nAutodiagnoza dojrzałości kupieckiej.\nKluczowe kompetencje kupca.\nNajlepsze praktyki kupieckie.\nKupiec doradcą i zaufanym partnerem biznesu.\n\n[/vc_column_text][vc_empty_space height=”10px”][vc_empty_space][vc_column_text] \n\n\n\nAtrakcyjne ceny TYLKO dla Członków PROCON® Professionals Poznaj szczegóły\n\n[/vc_column_text][/vc_column][/vc_row][vc_row][vc_column][vc_empty_space height=”52px”][/vc_column][/vc_row] \n
URL:https://myprocon.pl/event/kupiec-twarza-najlepszych-praktyk-trening-transparentnosci-kupieckiej/
LOCATION:Online\, Online
CATEGORIES:Diana Najtkowska-Sapryk,PROCON Workshops
ATTACH;FMTTYPE=image/jpeg:https://myprocon.pl/wp-content/uploads/2020/04/workshops-online.jpg
ORGANIZER;CN="PROCON%C2%AEProfessionals":MAILTO:agata.magdziarek@optibuy.com
END:VEVENT
END:VCALENDAR